BEGIN:VCALENDAR
VERSION:2.0
PRODID:-//Desert Sands Golf Course - ECPv6.15.18//NONSGML v1.0//EN
CALSCALE:GREGORIAN
METHOD:PUBLISH
X-WR-CALNAME:Desert Sands Golf Course
X-ORIGINAL-URL:https://www.desertsandsgc.com
X-WR-CALDESC:Events for Desert Sands Golf Course
REFRESH-INTERVAL;VALUE=DURATION:PT1H
X-Robots-Tag:noindex
X-PUBLISHED-TTL:PT1H
BEGIN:VTIMEZONE
TZID:UTC
BEGIN:STANDARD
TZOFFSETFROM:+0000
TZOFFSETTO:+0000
TZNAME:UTC
DTSTART:20240101T000000
END:STANDARD
END:VTIMEZONE
BEGIN:VTIMEZONE
TZID:America/Chicago
BEGIN:DAYLIGHT
TZOFFSETFROM:-0600
TZOFFSETTO:-0500
TZNAME:CDT
DTSTART:20240310T080000
END:DAYLIGHT
BEGIN:STANDARD
TZOFFSETFROM:-0500
TZOFFSETTO:-0600
TZNAME:CST
DTSTART:20241103T070000
END:STANDARD
BEGIN:DAYLIGHT
TZOFFSETFROM:-0600
TZOFFSETTO:-0500
TZNAME:CDT
DTSTART:20250309T080000
END:DAYLIGHT
BEGIN:STANDARD
TZOFFSETFROM:-0500
TZOFFSETTO:-0600
TZNAME:CST
DTSTART:20251102T070000
END:STANDARD
BEGIN:DAYLIGHT
TZOFFSETFROM:-0600
TZOFFSETTO:-0500
TZNAME:CDT
DTSTART:20260308T080000
END:DAYLIGHT
BEGIN:STANDARD
TZOFFSETFROM:-0500
TZOFFSETTO:-0600
TZNAME:CST
DTSTART:20261101T070000
END:STANDARD
END:VTIMEZONE
BEGIN:VEVENT
DTSTART;VALUE=DATE:20250618
DTEND;VALUE=DATE:20250619
DTSTAMP:20260419T203730
CREATED:20250617T183240Z
LAST-MODIFIED:20250617T183240Z
UID:10000001-1750204800-1750291199@www.desertsandsgc.com
SUMMARY:Aerification - Back 9 Closed
DESCRIPTION:
URL:https://www.desertsandsgc.com/event/aerification-back-9-closed/
END:VEVENT
BEGIN:VEVENT
DTSTART;TZID=America/Chicago:20250621T080000
DTEND;TZID=America/Chicago:20250621T170000
DTSTAMP:20260419T203730
CREATED:20250618T182533Z
LAST-MODIFIED:20250618T182533Z
UID:10000523-1750492800-1750525200@www.desertsandsgc.com
SUMMARY:5 O’Clock Somewhere Couples League
DESCRIPTION:1st Tee-time 8:00am May-September
URL:https://www.desertsandsgc.com/event/5-oclock-somewhere-couples-league/2025-06-21/
END:VEVENT
BEGIN:VEVENT
DTSTART;TZID=America/Chicago:20250628T080000
DTEND;TZID=America/Chicago:20250628T170000
DTSTAMP:20260419T203730
CREATED:20250618T182533Z
LAST-MODIFIED:20250618T182533Z
UID:10000524-1751097600-1751130000@www.desertsandsgc.com
SUMMARY:5 O’Clock Somewhere Couples League
DESCRIPTION:1st Tee-time 8:00am May-September
URL:https://www.desertsandsgc.com/event/5-oclock-somewhere-couples-league/2025-06-28/
END:VEVENT
END:VCALENDAR