BEGIN:VCALENDAR
VERSION:2.0
PRODID:-//Desert Sands Golf Course - ECPv6.15.18//NONSGML v1.0//EN
CALSCALE:GREGORIAN
METHOD:PUBLISH
X-ORIGINAL-URL:https://www.desertsandsgc.com
X-WR-CALDESC:Events for Desert Sands Golf Course
REFRESH-INTERVAL;VALUE=DURATION:PT1H
X-Robots-Tag:noindex
X-PUBLISHED-TTL:PT1H
BEGIN:VTIMEZONE
TZID:America/Phoenix
BEGIN:STANDARD
TZOFFSETFROM:-0700
TZOFFSETTO:-0700
TZNAME:MST
DTSTART:20250101T000000
END:STANDARD
END:VTIMEZONE
BEGIN:VTIMEZONE
TZID:America/Chicago
BEGIN:DAYLIGHT
TZOFFSETFROM:-0600
TZOFFSETTO:-0500
TZNAME:CDT
DTSTART:20250309T080000
END:DAYLIGHT
BEGIN:STANDARD
TZOFFSETFROM:-0500
TZOFFSETTO:-0600
TZNAME:CST
DTSTART:20251102T070000
END:STANDARD
BEGIN:DAYLIGHT
TZOFFSETFROM:-0600
TZOFFSETTO:-0500
TZNAME:CDT
DTSTART:20260308T080000
END:DAYLIGHT
BEGIN:STANDARD
TZOFFSETFROM:-0500
TZOFFSETTO:-0600
TZNAME:CST
DTSTART:20261101T070000
END:STANDARD
BEGIN:DAYLIGHT
TZOFFSETFROM:-0600
TZOFFSETTO:-0500
TZNAME:CDT
DTSTART:20270314T080000
END:DAYLIGHT
BEGIN:STANDARD
TZOFFSETFROM:-0500
TZOFFSETTO:-0600
TZNAME:CST
DTSTART:20271107T070000
END:STANDARD
END:VTIMEZONE
BEGIN:VEVENT
DTSTART;TZID=America/Phoenix:20260206T073000
DTEND;TZID=America/Phoenix:20260206T113000
DTSTAMP:20260419T171836
CREATED:20250625T193337Z
LAST-MODIFIED:20250625T193428Z
UID:10000741-1770363000-1770377400@www.desertsandsgc.com
SUMMARY:Friday Desert Sands Men's Club
DESCRIPTION:7:30 start time October – May
URL:https://www.desertsandsgc.com/event/friday-desert-sands-mens-club-2-2/2026-02-06/
END:VEVENT
BEGIN:VEVENT
DTSTART;TZID=America/Chicago:20260207T080000
DTEND;TZID=America/Chicago:20260207T170000
DTSTAMP:20260419T171836
CREATED:20250618T182533Z
LAST-MODIFIED:20250618T182533Z
UID:10000556-1770451200-1770483600@www.desertsandsgc.com
SUMMARY:5 O’Clock Somewhere Couples League
DESCRIPTION:1st Tee-time 8:00am May-September
URL:https://www.desertsandsgc.com/event/5-oclock-somewhere-couples-league/2026-02-07/
END:VEVENT
BEGIN:VEVENT
DTSTART;TZID=America/Phoenix:20260208T083000
DTEND;TZID=America/Phoenix:20260208T113000
DTSTAMP:20260419T171836
CREATED:20250618T130455Z
LAST-MODIFIED:20250625T192952Z
UID:10000708-1770539400-1770550200@www.desertsandsgc.com
SUMMARY:Moose Lodge ABCD Scramble
DESCRIPTION:8:30 first tee time October – May
URL:https://www.desertsandsgc.com/event/moose-lodge-abcd-scramble/2026-02-08/
END:VEVENT
BEGIN:VEVENT
DTSTART;TZID=America/Phoenix:20260213T073000
DTEND;TZID=America/Phoenix:20260213T113000
DTSTAMP:20260419T171836
CREATED:20250625T193337Z
LAST-MODIFIED:20250625T193428Z
UID:10000742-1770967800-1770982200@www.desertsandsgc.com
SUMMARY:Friday Desert Sands Men's Club
DESCRIPTION:7:30 start time October – May
URL:https://www.desertsandsgc.com/event/friday-desert-sands-mens-club-2-2/2026-02-13/
END:VEVENT
BEGIN:VEVENT
DTSTART;TZID=America/Chicago:20260214T080000
DTEND;TZID=America/Chicago:20260214T170000
DTSTAMP:20260419T171836
CREATED:20250618T182533Z
LAST-MODIFIED:20250618T182533Z
UID:10000557-1771056000-1771088400@www.desertsandsgc.com
SUMMARY:5 O’Clock Somewhere Couples League
DESCRIPTION:1st Tee-time 8:00am May-September
URL:https://www.desertsandsgc.com/event/5-oclock-somewhere-couples-league/2026-02-14/
END:VEVENT
BEGIN:VEVENT
DTSTART;TZID=America/Phoenix:20260215T083000
DTEND;TZID=America/Phoenix:20260215T113000
DTSTAMP:20260419T171836
CREATED:20250618T130455Z
LAST-MODIFIED:20250625T192952Z
UID:10000709-1771144200-1771155000@www.desertsandsgc.com
SUMMARY:Moose Lodge ABCD Scramble
DESCRIPTION:8:30 first tee time October – May
URL:https://www.desertsandsgc.com/event/moose-lodge-abcd-scramble/2026-02-15/
END:VEVENT
BEGIN:VEVENT
DTSTART;TZID=America/Phoenix:20260220T073000
DTEND;TZID=America/Phoenix:20260220T113000
DTSTAMP:20260419T171836
CREATED:20250625T193337Z
LAST-MODIFIED:20250625T193428Z
UID:10000743-1771572600-1771587000@www.desertsandsgc.com
SUMMARY:Friday Desert Sands Men's Club
DESCRIPTION:7:30 start time October – May
URL:https://www.desertsandsgc.com/event/friday-desert-sands-mens-club-2-2/2026-02-20/
END:VEVENT
BEGIN:VEVENT
DTSTART;TZID=America/Chicago:20260221T080000
DTEND;TZID=America/Chicago:20260221T170000
DTSTAMP:20260419T171836
CREATED:20250618T182533Z
LAST-MODIFIED:20250618T182533Z
UID:10000558-1771660800-1771693200@www.desertsandsgc.com
SUMMARY:5 O’Clock Somewhere Couples League
DESCRIPTION:1st Tee-time 8:00am May-September
URL:https://www.desertsandsgc.com/event/5-oclock-somewhere-couples-league/2026-02-21/
END:VEVENT
BEGIN:VEVENT
DTSTART;TZID=America/Phoenix:20260222T083000
DTEND;TZID=America/Phoenix:20260222T113000
DTSTAMP:20260419T171836
CREATED:20250618T130455Z
LAST-MODIFIED:20250625T192952Z
UID:10000710-1771749000-1771759800@www.desertsandsgc.com
SUMMARY:Moose Lodge ABCD Scramble
DESCRIPTION:8:30 first tee time October – May
URL:https://www.desertsandsgc.com/event/moose-lodge-abcd-scramble/2026-02-22/
END:VEVENT
BEGIN:VEVENT
DTSTART;TZID=America/Chicago:20260222T130000
DTEND;TZID=America/Chicago:20260222T170000
DTSTAMP:20260419T171836
CREATED:20250618T130652Z
LAST-MODIFIED:20250618T130652Z
UID:10000469-1771765200-1771779600@www.desertsandsgc.com
SUMMARY:Camp Confidence 4-Person Scramble\,
DESCRIPTION:1pm shotgun start
URL:https://www.desertsandsgc.com/event/camp-confidence-4-person-scramble/
END:VEVENT
BEGIN:VEVENT
DTSTART;TZID=America/Phoenix:20260227T073000
DTEND;TZID=America/Phoenix:20260227T113000
DTSTAMP:20260419T171836
CREATED:20250625T193337Z
LAST-MODIFIED:20250625T193428Z
UID:10000744-1772177400-1772191800@www.desertsandsgc.com
SUMMARY:Friday Desert Sands Men's Club
DESCRIPTION:7:30 start time October – May
URL:https://www.desertsandsgc.com/event/friday-desert-sands-mens-club-2-2/2026-02-27/
END:VEVENT
BEGIN:VEVENT
DTSTART;TZID=America/Chicago:20260228T080000
DTEND;TZID=America/Chicago:20260228T170000
DTSTAMP:20260419T171836
CREATED:20250618T182533Z
LAST-MODIFIED:20250618T182533Z
UID:10000559-1772265600-1772298000@www.desertsandsgc.com
SUMMARY:5 O’Clock Somewhere Couples League
DESCRIPTION:1st Tee-time 8:00am May-September
URL:https://www.desertsandsgc.com/event/5-oclock-somewhere-couples-league/2026-02-28/
END:VEVENT
BEGIN:VEVENT
DTSTART;TZID=America/Phoenix:20260301T083000
DTEND;TZID=America/Phoenix:20260301T113000
DTSTAMP:20260419T171836
CREATED:20250618T130455Z
LAST-MODIFIED:20250625T192952Z
UID:10000711-1772353800-1772364600@www.desertsandsgc.com
SUMMARY:Moose Lodge ABCD Scramble
DESCRIPTION:8:30 first tee time October – May
URL:https://www.desertsandsgc.com/event/moose-lodge-abcd-scramble/2026-03-01/
END:VEVENT
BEGIN:VEVENT
DTSTART;TZID=America/Phoenix:20260306T073000
DTEND;TZID=America/Phoenix:20260306T113000
DTSTAMP:20260419T171836
CREATED:20250625T193337Z
LAST-MODIFIED:20250625T193428Z
UID:10000745-1772782200-1772796600@www.desertsandsgc.com
SUMMARY:Friday Desert Sands Men's Club
DESCRIPTION:7:30 start time October – May
URL:https://www.desertsandsgc.com/event/friday-desert-sands-mens-club-2-2/2026-03-06/
END:VEVENT
BEGIN:VEVENT
DTSTART;TZID=America/Chicago:20260307T080000
DTEND;TZID=America/Chicago:20260307T170000
DTSTAMP:20260419T171836
CREATED:20250618T182533Z
LAST-MODIFIED:20250618T182533Z
UID:10000560-1772870400-1772902800@www.desertsandsgc.com
SUMMARY:5 O’Clock Somewhere Couples League
DESCRIPTION:1st Tee-time 8:00am May-September
URL:https://www.desertsandsgc.com/event/5-oclock-somewhere-couples-league/2026-03-07/
END:VEVENT
BEGIN:VEVENT
DTSTART;TZID=America/Chicago:20260307T130000
DTEND;TZID=America/Chicago:20260307T170000
DTSTAMP:20260419T171836
CREATED:20250618T130735Z
LAST-MODIFIED:20250618T130735Z
UID:10000470-1772888400-1772902800@www.desertsandsgc.com
SUMMARY:Good Neighbor 2-Person Multi-Format
DESCRIPTION:1pm shotgun
URL:https://www.desertsandsgc.com/event/good-neighbor-2-person-multi-format/
END:VEVENT
BEGIN:VEVENT
DTSTART;TZID=America/Phoenix:20260308T083000
DTEND;TZID=America/Phoenix:20260308T113000
DTSTAMP:20260419T171836
CREATED:20250618T130455Z
LAST-MODIFIED:20250625T192952Z
UID:10000712-1772958600-1772969400@www.desertsandsgc.com
SUMMARY:Moose Lodge ABCD Scramble
DESCRIPTION:8:30 first tee time October – May
URL:https://www.desertsandsgc.com/event/moose-lodge-abcd-scramble/2026-03-08/
END:VEVENT
BEGIN:VEVENT
DTSTART;TZID=America/Phoenix:20260313T073000
DTEND;TZID=America/Phoenix:20260313T113000
DTSTAMP:20260419T171836
CREATED:20250625T193337Z
LAST-MODIFIED:20250625T193428Z
UID:10000746-1773387000-1773401400@www.desertsandsgc.com
SUMMARY:Friday Desert Sands Men's Club
DESCRIPTION:7:30 start time October – May
URL:https://www.desertsandsgc.com/event/friday-desert-sands-mens-club-2-2/2026-03-13/
END:VEVENT
BEGIN:VEVENT
DTSTART;TZID=America/Chicago:20260314T080000
DTEND;TZID=America/Chicago:20260314T170000
DTSTAMP:20260419T171836
CREATED:20250618T182533Z
LAST-MODIFIED:20250618T182533Z
UID:10000561-1773475200-1773507600@www.desertsandsgc.com
SUMMARY:5 O’Clock Somewhere Couples League
DESCRIPTION:1st Tee-time 8:00am May-September
URL:https://www.desertsandsgc.com/event/5-oclock-somewhere-couples-league/2026-03-14/
END:VEVENT
BEGIN:VEVENT
DTSTART;TZID=America/Phoenix:20260315T083000
DTEND;TZID=America/Phoenix:20260315T113000
DTSTAMP:20260419T171836
CREATED:20250618T130455Z
LAST-MODIFIED:20250625T192952Z
UID:10000713-1773563400-1773574200@www.desertsandsgc.com
SUMMARY:Moose Lodge ABCD Scramble
DESCRIPTION:8:30 first tee time October – May
URL:https://www.desertsandsgc.com/event/moose-lodge-abcd-scramble/2026-03-15/
END:VEVENT
BEGIN:VEVENT
DTSTART;TZID=America/Phoenix:20260320T073000
DTEND;TZID=America/Phoenix:20260320T113000
DTSTAMP:20260419T171836
CREATED:20250625T193337Z
LAST-MODIFIED:20250625T193428Z
UID:10000747-1773991800-1774006200@www.desertsandsgc.com
SUMMARY:Friday Desert Sands Men's Club
DESCRIPTION:7:30 start time October – May
URL:https://www.desertsandsgc.com/event/friday-desert-sands-mens-club-2-2/2026-03-20/
END:VEVENT
BEGIN:VEVENT
DTSTART;TZID=America/Chicago:20260321T080000
DTEND;TZID=America/Chicago:20260321T170000
DTSTAMP:20260419T171836
CREATED:20250618T182533Z
LAST-MODIFIED:20250618T182533Z
UID:10000562-1774080000-1774112400@www.desertsandsgc.com
SUMMARY:5 O’Clock Somewhere Couples League
DESCRIPTION:1st Tee-time 8:00am May-September
URL:https://www.desertsandsgc.com/event/5-oclock-somewhere-couples-league/2026-03-21/
END:VEVENT
BEGIN:VEVENT
DTSTART;TZID=America/Phoenix:20260322T083000
DTEND;TZID=America/Phoenix:20260322T113000
DTSTAMP:20260419T171836
CREATED:20250618T130455Z
LAST-MODIFIED:20250625T192952Z
UID:10000714-1774168200-1774179000@www.desertsandsgc.com
SUMMARY:Moose Lodge ABCD Scramble
DESCRIPTION:8:30 first tee time October – May
URL:https://www.desertsandsgc.com/event/moose-lodge-abcd-scramble/2026-03-22/
END:VEVENT
BEGIN:VEVENT
DTSTART;TZID=America/Phoenix:20260327T073000
DTEND;TZID=America/Phoenix:20260327T113000
DTSTAMP:20260419T171837
CREATED:20250625T193337Z
LAST-MODIFIED:20250625T193428Z
UID:10000748-1774596600-1774611000@www.desertsandsgc.com
SUMMARY:Friday Desert Sands Men's Club
DESCRIPTION:7:30 start time October – May
URL:https://www.desertsandsgc.com/event/friday-desert-sands-mens-club-2-2/2026-03-27/
END:VEVENT
BEGIN:VEVENT
DTSTART;TZID=America/Chicago:20260328T080000
DTEND;TZID=America/Chicago:20260328T170000
DTSTAMP:20260419T171837
CREATED:20250618T182533Z
LAST-MODIFIED:20250618T182533Z
UID:10000563-1774684800-1774717200@www.desertsandsgc.com
SUMMARY:5 O’Clock Somewhere Couples League
DESCRIPTION:1st Tee-time 8:00am May-September
URL:https://www.desertsandsgc.com/event/5-oclock-somewhere-couples-league/2026-03-28/
END:VEVENT
BEGIN:VEVENT
DTSTART;TZID=America/Phoenix:20260329T083000
DTEND;TZID=America/Phoenix:20260329T113000
DTSTAMP:20260419T171837
CREATED:20250618T130455Z
LAST-MODIFIED:20250625T192952Z
UID:10000715-1774773000-1774783800@www.desertsandsgc.com
SUMMARY:Moose Lodge ABCD Scramble
DESCRIPTION:8:30 first tee time October – May
URL:https://www.desertsandsgc.com/event/moose-lodge-abcd-scramble/2026-03-29/
END:VEVENT
BEGIN:VEVENT
DTSTART;TZID=America/Phoenix:20260403T073000
DTEND;TZID=America/Phoenix:20260403T113000
DTSTAMP:20260419T171837
CREATED:20250625T193337Z
LAST-MODIFIED:20250625T193428Z
UID:10000749-1775201400-1775215800@www.desertsandsgc.com
SUMMARY:Friday Desert Sands Men's Club
DESCRIPTION:7:30 start time October – May
URL:https://www.desertsandsgc.com/event/friday-desert-sands-mens-club-2-2/2026-04-03/
END:VEVENT
BEGIN:VEVENT
DTSTART;TZID=America/Chicago:20260404T080000
DTEND;TZID=America/Chicago:20260404T170000
DTSTAMP:20260419T171837
CREATED:20250618T182533Z
LAST-MODIFIED:20250618T182533Z
UID:10000564-1775289600-1775322000@www.desertsandsgc.com
SUMMARY:5 O’Clock Somewhere Couples League
DESCRIPTION:1st Tee-time 8:00am May-September
URL:https://www.desertsandsgc.com/event/5-oclock-somewhere-couples-league/2026-04-04/
END:VEVENT
BEGIN:VEVENT
DTSTART;TZID=America/Phoenix:20260405T083000
DTEND;TZID=America/Phoenix:20260405T113000
DTSTAMP:20260419T171837
CREATED:20250618T130455Z
LAST-MODIFIED:20250625T192952Z
UID:10000716-1775377800-1775388600@www.desertsandsgc.com
SUMMARY:Moose Lodge ABCD Scramble
DESCRIPTION:8:30 first tee time October – May
URL:https://www.desertsandsgc.com/event/moose-lodge-abcd-scramble/2026-04-05/
END:VEVENT
BEGIN:VEVENT
DTSTART;TZID=America/Phoenix:20260410T073000
DTEND;TZID=America/Phoenix:20260410T113000
DTSTAMP:20260419T171837
CREATED:20250625T193337Z
LAST-MODIFIED:20250625T193428Z
UID:10000750-1775806200-1775820600@www.desertsandsgc.com
SUMMARY:Friday Desert Sands Men's Club
DESCRIPTION:7:30 start time October – May
URL:https://www.desertsandsgc.com/event/friday-desert-sands-mens-club-2-2/2026-04-10/
END:VEVENT
END:VCALENDAR