BEGIN:VCALENDAR
VERSION:2.0
PRODID:-//Desert Sands Golf Course - ECPv6.15.18//NONSGML v1.0//EN
CALSCALE:GREGORIAN
METHOD:PUBLISH
X-ORIGINAL-URL:https://www.desertsandsgc.com
X-WR-CALDESC:Events for Desert Sands Golf Course
REFRESH-INTERVAL;VALUE=DURATION:PT1H
X-Robots-Tag:noindex
X-PUBLISHED-TTL:PT1H
BEGIN:VTIMEZONE
TZID:America/Chicago
BEGIN:DAYLIGHT
TZOFFSETFROM:-0600
TZOFFSETTO:-0500
TZNAME:CDT
DTSTART:20240310T080000
END:DAYLIGHT
BEGIN:STANDARD
TZOFFSETFROM:-0500
TZOFFSETTO:-0600
TZNAME:CST
DTSTART:20241103T070000
END:STANDARD
BEGIN:DAYLIGHT
TZOFFSETFROM:-0600
TZOFFSETTO:-0500
TZNAME:CDT
DTSTART:20250309T080000
END:DAYLIGHT
BEGIN:STANDARD
TZOFFSETFROM:-0500
TZOFFSETTO:-0600
TZNAME:CST
DTSTART:20251102T070000
END:STANDARD
BEGIN:DAYLIGHT
TZOFFSETFROM:-0600
TZOFFSETTO:-0500
TZNAME:CDT
DTSTART:20260308T080000
END:DAYLIGHT
BEGIN:STANDARD
TZOFFSETFROM:-0500
TZOFFSETTO:-0600
TZNAME:CST
DTSTART:20261101T070000
END:STANDARD
END:VTIMEZONE
BEGIN:VTIMEZONE
TZID:America/Phoenix
BEGIN:STANDARD
TZOFFSETFROM:-0700
TZOFFSETTO:-0700
TZNAME:MST
DTSTART:20240101T000000
END:STANDARD
END:VTIMEZONE
BEGIN:VEVENT
DTSTART;TZID=America/Chicago:20250712T080000
DTEND;TZID=America/Chicago:20250712T170000
DTSTAMP:20260420T015204
CREATED:20250618T182533Z
LAST-MODIFIED:20250618T182533Z
UID:10000526-1752307200-1752339600@www.desertsandsgc.com
SUMMARY:5 O’Clock Somewhere Couples League
DESCRIPTION:1st Tee-time 8:00am May-September
URL:https://www.desertsandsgc.com/event/5-oclock-somewhere-couples-league/2025-07-12/
END:VEVENT
BEGIN:VEVENT
DTSTART;TZID=America/Chicago:20250719T080000
DTEND;TZID=America/Chicago:20250719T170000
DTSTAMP:20260420T015204
CREATED:20250618T182533Z
LAST-MODIFIED:20250618T182533Z
UID:10000527-1752912000-1752944400@www.desertsandsgc.com
SUMMARY:5 O’Clock Somewhere Couples League
DESCRIPTION:1st Tee-time 8:00am May-September
URL:https://www.desertsandsgc.com/event/5-oclock-somewhere-couples-league/2025-07-19/
END:VEVENT
BEGIN:VEVENT
DTSTART;TZID=America/Chicago:20250726T080000
DTEND;TZID=America/Chicago:20250726T170000
DTSTAMP:20260420T015204
CREATED:20250618T182533Z
LAST-MODIFIED:20250618T182533Z
UID:10000528-1753516800-1753549200@www.desertsandsgc.com
SUMMARY:5 O’Clock Somewhere Couples League
DESCRIPTION:1st Tee-time 8:00am May-September
URL:https://www.desertsandsgc.com/event/5-oclock-somewhere-couples-league/2025-07-26/
END:VEVENT
BEGIN:VEVENT
DTSTART;TZID=America/Chicago:20250802T080000
DTEND;TZID=America/Chicago:20250802T170000
DTSTAMP:20260420T015204
CREATED:20250618T182533Z
LAST-MODIFIED:20250618T182533Z
UID:10000529-1754121600-1754154000@www.desertsandsgc.com
SUMMARY:5 O’Clock Somewhere Couples League
DESCRIPTION:1st Tee-time 8:00am May-September
URL:https://www.desertsandsgc.com/event/5-oclock-somewhere-couples-league/2025-08-02/
END:VEVENT
BEGIN:VEVENT
DTSTART;TZID=America/Chicago:20250809T080000
DTEND;TZID=America/Chicago:20250809T170000
DTSTAMP:20260420T015204
CREATED:20250618T182533Z
LAST-MODIFIED:20250618T182533Z
UID:10000530-1754726400-1754758800@www.desertsandsgc.com
SUMMARY:5 O’Clock Somewhere Couples League
DESCRIPTION:1st Tee-time 8:00am May-September
URL:https://www.desertsandsgc.com/event/5-oclock-somewhere-couples-league/2025-08-09/
END:VEVENT
BEGIN:VEVENT
DTSTART;TZID=America/Chicago:20250816T080000
DTEND;TZID=America/Chicago:20250816T170000
DTSTAMP:20260420T015204
CREATED:20250618T182533Z
LAST-MODIFIED:20250618T182533Z
UID:10000531-1755331200-1755363600@www.desertsandsgc.com
SUMMARY:5 O’Clock Somewhere Couples League
DESCRIPTION:1st Tee-time 8:00am May-September
URL:https://www.desertsandsgc.com/event/5-oclock-somewhere-couples-league/2025-08-16/
END:VEVENT
BEGIN:VEVENT
DTSTART;TZID=America/Chicago:20250823T070000
DTEND;TZID=America/Chicago:20250823T170000
DTSTAMP:20260420T015204
CREATED:20250618T130603Z
LAST-MODIFIED:20250618T130603Z
UID:10000468-1755932400-1755968400@www.desertsandsgc.com
SUMMARY:Desert Ridge High School Wrestling Fundraiser 4-person Scramble
DESCRIPTION:7am shotgun start
URL:https://www.desertsandsgc.com/event/desert-ridge-high-school-wrestling-fundraiser-4-person-scramble/
END:VEVENT
BEGIN:VEVENT
DTSTART;TZID=America/Chicago:20250823T080000
DTEND;TZID=America/Chicago:20250823T170000
DTSTAMP:20260420T015204
CREATED:20250618T182533Z
LAST-MODIFIED:20250618T182533Z
UID:10000532-1755936000-1755968400@www.desertsandsgc.com
SUMMARY:5 O’Clock Somewhere Couples League
DESCRIPTION:1st Tee-time 8:00am May-September
URL:https://www.desertsandsgc.com/event/5-oclock-somewhere-couples-league/2025-08-23/
END:VEVENT
BEGIN:VEVENT
DTSTART;TZID=America/Chicago:20250830T080000
DTEND;TZID=America/Chicago:20250830T170000
DTSTAMP:20260420T015204
CREATED:20250618T182533Z
LAST-MODIFIED:20250618T182533Z
UID:10000533-1756540800-1756573200@www.desertsandsgc.com
SUMMARY:5 O’Clock Somewhere Couples League
DESCRIPTION:1st Tee-time 8:00am May-September
URL:https://www.desertsandsgc.com/event/5-oclock-somewhere-couples-league/2025-08-30/
END:VEVENT
BEGIN:VEVENT
DTSTART;TZID=America/Chicago:20250906T080000
DTEND;TZID=America/Chicago:20250906T170000
DTSTAMP:20260420T015204
CREATED:20250618T182533Z
LAST-MODIFIED:20250618T182533Z
UID:10000534-1757145600-1757178000@www.desertsandsgc.com
SUMMARY:5 O’Clock Somewhere Couples League
DESCRIPTION:1st Tee-time 8:00am May-September
URL:https://www.desertsandsgc.com/event/5-oclock-somewhere-couples-league/2025-09-06/
END:VEVENT
BEGIN:VEVENT
DTSTART;TZID=America/Chicago:20250913T080000
DTEND;TZID=America/Chicago:20250913T170000
DTSTAMP:20260420T015204
CREATED:20250618T182533Z
LAST-MODIFIED:20250618T182533Z
UID:10000535-1757750400-1757782800@www.desertsandsgc.com
SUMMARY:5 O’Clock Somewhere Couples League
DESCRIPTION:1st Tee-time 8:00am May-September
URL:https://www.desertsandsgc.com/event/5-oclock-somewhere-couples-league/2025-09-13/
END:VEVENT
BEGIN:VEVENT
DTSTART;TZID=America/Chicago:20250920T080000
DTEND;TZID=America/Chicago:20250920T170000
DTSTAMP:20260420T015204
CREATED:20250618T182533Z
LAST-MODIFIED:20250618T182533Z
UID:10000536-1758355200-1758387600@www.desertsandsgc.com
SUMMARY:5 O’Clock Somewhere Couples League
DESCRIPTION:1st Tee-time 8:00am May-September
URL:https://www.desertsandsgc.com/event/5-oclock-somewhere-couples-league/2025-09-20/
END:VEVENT
BEGIN:VEVENT
DTSTART;VALUE=DATE:20250922
DTEND;VALUE=DATE:20250929
DTSTAMP:20260420T015204
CREATED:20250909T123130Z
LAST-MODIFIED:20250909T123130Z
UID:10000758-1758499200-1759103999@www.desertsandsgc.com
SUMMARY:Golf course will be dry in preparation for overseed.
DESCRIPTION:
URL:https://www.desertsandsgc.com/event/golf-course-will-be-dry-in-preparation-for-overseed/
END:VEVENT
BEGIN:VEVENT
DTSTART;VALUE=DATE:20250922
DTEND;VALUE=DATE:20251010
DTSTAMP:20260420T015204
CREATED:20250617T193357Z
LAST-MODIFIED:20250909T123049Z
UID:10000187-1758499200-1760054399@www.desertsandsgc.com
SUMMARY:Course Closed for Over Seed: Start Overseed process
DESCRIPTION:Start Overseed process
URL:https://www.desertsandsgc.com/event/course-closed-for-over-seed/
END:VEVENT
BEGIN:VEVENT
DTSTART;TZID=America/Chicago:20250927T080000
DTEND;TZID=America/Chicago:20250927T170000
DTSTAMP:20260420T015204
CREATED:20250618T182533Z
LAST-MODIFIED:20250618T182533Z
UID:10000537-1758960000-1758992400@www.desertsandsgc.com
SUMMARY:5 O’Clock Somewhere Couples League
DESCRIPTION:1st Tee-time 8:00am May-September
URL:https://www.desertsandsgc.com/event/5-oclock-somewhere-couples-league/2025-09-27/
END:VEVENT
BEGIN:VEVENT
DTSTART;VALUE=DATE:20250928
DTEND;VALUE=DATE:20250929
DTSTAMP:20260420T015204
CREATED:20250909T123206Z
LAST-MODIFIED:20250909T123206Z
UID:10000759-1759017600-1759103999@www.desertsandsgc.com
SUMMARY:Course will have open tee-times in the morning\, Last\, tee time will be 7:12am. Driving range will close at 10:00am.
DESCRIPTION:Course will have open tee-times in the morning\, Last\, tee time will be 7:12am. Driving range will close at 10:00am.
URL:https://www.desertsandsgc.com/event/course-will-have-open-tee-times-in-the-morning-last-tee-time-will-be-712am-driving-range-will-close-at-1000am/
END:VEVENT
BEGIN:VEVENT
DTSTART;VALUE=DATE:20250929
DTEND;VALUE=DATE:20251006
DTSTAMP:20260420T015204
CREATED:20250909T123259Z
LAST-MODIFIED:20250909T123259Z
UID:10000761-1759104000-1759708799@www.desertsandsgc.com
SUMMARY:Pro Shop will be closed
DESCRIPTION:
URL:https://www.desertsandsgc.com/event/pro-shop-will-be-closed/
END:VEVENT
BEGIN:VEVENT
DTSTART;VALUE=DATE:20250929
DTEND;VALUE=DATE:20251010
DTSTAMP:20260420T015204
CREATED:20250909T123235Z
LAST-MODIFIED:20250909T123235Z
UID:10000760-1759104000-1760054399@www.desertsandsgc.com
SUMMARY:Golf Course and Driving range will be closed.
DESCRIPTION:
URL:https://www.desertsandsgc.com/event/golf-course-and-driving-range-will-be-closed/
END:VEVENT
BEGIN:VEVENT
DTSTART;TZID=America/Chicago:20251003T073000
DTEND;TZID=America/Chicago:20251003T170000
DTSTAMP:20260420T015204
CREATED:20250617T193919Z
LAST-MODIFIED:20250617T193919Z
UID:10000331-1759476600-1759510800@www.desertsandsgc.com
SUMMARY:Friday Desert Sands Men's Club
DESCRIPTION:7:30 start time October – May
URL:https://www.desertsandsgc.com/event/friday-desert-sands-mens-club-2/
END:VEVENT
BEGIN:VEVENT
DTSTART;TZID=America/Chicago:20251004T080000
DTEND;TZID=America/Chicago:20251004T170000
DTSTAMP:20260420T015204
CREATED:20250618T182533Z
LAST-MODIFIED:20250618T182533Z
UID:10000538-1759564800-1759597200@www.desertsandsgc.com
SUMMARY:5 O’Clock Somewhere Couples League
DESCRIPTION:1st Tee-time 8:00am May-September
URL:https://www.desertsandsgc.com/event/5-oclock-somewhere-couples-league/2025-10-04/
END:VEVENT
BEGIN:VEVENT
DTSTART;VALUE=DATE:20251006
DTEND;VALUE=DATE:20251010
DTSTAMP:20260420T015204
CREATED:20250617T193430Z
LAST-MODIFIED:20250617T193430Z
UID:10000188-1759708800-1760054399@www.desertsandsgc.com
SUMMARY:Pro Shop Open
DESCRIPTION:
URL:https://www.desertsandsgc.com/event/pro-shop-open/
END:VEVENT
BEGIN:VEVENT
DTSTART;TZID=America/Chicago:20251006T090000
DTEND;TZID=America/Chicago:20251009T150000
DTSTAMP:20260420T015204
CREATED:20250909T123353Z
LAST-MODIFIED:20250909T123353Z
UID:10000762-1759741200-1760022000@www.desertsandsgc.com
SUMMARY:Pro Shop will be open limited hours 9am - 3pm each day
DESCRIPTION:
URL:https://www.desertsandsgc.com/event/pro-shop-will-be-open-limited-hours-9am-3pm-each-day/
END:VEVENT
BEGIN:VEVENT
DTSTART;VALUE=DATE:20251010
DTEND;VALUE=DATE:20251011
DTSTAMP:20260420T015204
CREATED:20250909T123453Z
LAST-MODIFIED:20250909T123453Z
UID:10000763-1760054400-1760140799@www.desertsandsgc.com
SUMMARY:Planned Opening Day
DESCRIPTION:
URL:https://www.desertsandsgc.com/event/planned-opening-day/
END:VEVENT
BEGIN:VEVENT
DTSTART;VALUE=DATE:20251010
DTEND;VALUE=DATE:20251024
DTSTAMP:20260420T015204
CREATED:20250617T193522Z
LAST-MODIFIED:20250617T193522Z
UID:10000189-1760054400-1761263999@www.desertsandsgc.com
SUMMARY:Course Open (Cart Path Only)
DESCRIPTION:
URL:https://www.desertsandsgc.com/event/course-open-cart-path-only/
END:VEVENT
BEGIN:VEVENT
DTSTART;VALUE=DATE:20251010
DTEND;VALUE=DATE:20251024
DTSTAMP:20260420T015204
CREATED:20250909T123535Z
LAST-MODIFIED:20250909T123535Z
UID:10000764-1760054400-1761263999@www.desertsandsgc.com
SUMMARY:Driving Range & Course will be strictly cart path only
DESCRIPTION:
URL:https://www.desertsandsgc.com/event/driving-range-course-will-be-strictly-cart-path-only/
END:VEVENT
BEGIN:VEVENT
DTSTART;TZID=America/Phoenix:20251010T073000
DTEND;TZID=America/Phoenix:20251010T113000
DTSTAMP:20260420T015204
CREATED:20250625T193337Z
LAST-MODIFIED:20250625T193428Z
UID:10000332-1760081400-1760095800@www.desertsandsgc.com
SUMMARY:Friday Desert Sands Men's Club
DESCRIPTION:7:30 start time October – May
URL:https://www.desertsandsgc.com/event/friday-desert-sands-mens-club-2-2/2025-10-10/
END:VEVENT
BEGIN:VEVENT
DTSTART;TZID=America/Chicago:20251011T080000
DTEND;TZID=America/Chicago:20251011T170000
DTSTAMP:20260420T015204
CREATED:20250618T182533Z
LAST-MODIFIED:20250618T182533Z
UID:10000539-1760169600-1760202000@www.desertsandsgc.com
SUMMARY:5 O’Clock Somewhere Couples League
DESCRIPTION:1st Tee-time 8:00am May-September
URL:https://www.desertsandsgc.com/event/5-oclock-somewhere-couples-league/2025-10-11/
END:VEVENT
BEGIN:VEVENT
DTSTART;TZID=America/Phoenix:20251012T083000
DTEND;TZID=America/Phoenix:20251012T113000
DTSTAMP:20260420T015204
CREATED:20250618T130455Z
LAST-MODIFIED:20250625T192952Z
UID:10000691-1760257800-1760268600@www.desertsandsgc.com
SUMMARY:Moose Lodge ABCD Scramble
DESCRIPTION:8:30 first tee time October – May
URL:https://www.desertsandsgc.com/event/moose-lodge-abcd-scramble/2025-10-12/
END:VEVENT
BEGIN:VEVENT
DTSTART;TZID=America/Phoenix:20251017T073000
DTEND;TZID=America/Phoenix:20251017T113000
DTSTAMP:20260420T015204
CREATED:20250625T193337Z
LAST-MODIFIED:20250625T193428Z
UID:10000725-1760686200-1760700600@www.desertsandsgc.com
SUMMARY:Friday Desert Sands Men's Club
DESCRIPTION:7:30 start time October – May
URL:https://www.desertsandsgc.com/event/friday-desert-sands-mens-club-2-2/2025-10-17/
END:VEVENT
BEGIN:VEVENT
DTSTART;TZID=America/Chicago:20251018T080000
DTEND;TZID=America/Chicago:20251018T170000
DTSTAMP:20260420T015204
CREATED:20250618T182533Z
LAST-MODIFIED:20250618T182533Z
UID:10000540-1760774400-1760806800@www.desertsandsgc.com
SUMMARY:5 O’Clock Somewhere Couples League
DESCRIPTION:1st Tee-time 8:00am May-September
URL:https://www.desertsandsgc.com/event/5-oclock-somewhere-couples-league/2025-10-18/
END:VEVENT
END:VCALENDAR